BEGIN:VCALENDAR
VERSION:2.0
PRODID:-//Kaze Hope Alliance Foundation (KHAF) - ECPv6.15.20//NONSGML v1.0//EN
CALSCALE:GREGORIAN
METHOD:PUBLISH
X-WR-CALNAME:Kaze Hope Alliance Foundation (KHAF)
X-ORIGINAL-URL:https://kazehopealliance.org.rw
X-WR-CALDESC:Events for Kaze Hope Alliance Foundation (KHAF)
REFRESH-INTERVAL;VALUE=DURATION:PT1H
X-Robots-Tag:noindex
X-PUBLISHED-TTL:PT1H
BEGIN:VTIMEZONE
TZID:UTC
BEGIN:STANDARD
TZOFFSETFROM:+0000
TZOFFSETTO:+0000
TZNAME:UTC
DTSTART:20250101T000000
END:STANDARD
END:VTIMEZONE
BEGIN:VTIMEZONE
TZID:Africa/Kigali
BEGIN:STANDARD
TZOFFSETFROM:+0200
TZOFFSETTO:+0200
TZNAME:CAT
DTSTART:20240101T000000
END:STANDARD
END:VTIMEZONE
BEGIN:VEVENT
DTSTART;TZID=UTC:20260105T090000
DTEND;TZID=UTC:20260105T170000
DTSTAMP:20260423T115337
CREATED:20251128T121719Z
LAST-MODIFIED:20260105T183547Z
UID:25002-1767603600-1767632400@kazehopealliance.org.rw
SUMMARY:Official Launching Day
DESCRIPTION:Date: February 07\, 2026Time & Location: To be announced \nEvent Details\nJoin us as we celebrate the official opening of the KHAF office!This special event will include: \n\nA tour of our new office\nPresentations from our partners\nA showcase of our programs and achievements\nQ&A sessions with KHAF leadership\nA fundraising segment supporting KHAF’s core programs\n\nYour presence and support will help us strengthen community impact and expand vital services across Rwanda.
URL:https://kazehopealliance.org.rw/event/official-launching-day/
CATEGORIES:Office Event
ATTACH;FMTTYPE=image/webp:https://kazehopealliance.org.rw/wp-content/uploads/2020/08/khaf-logo.webp
ORGANIZER;CN="Mr. Olivier Ngizwenimana":MAILTO:Olivier.ngizwenimana@kazehope.org.rw
END:VEVENT
BEGIN:VEVENT
DTSTART;TZID=Africa/Kigali:20251001T090000
DTEND;TZID=Africa/Kigali:20260402T170000
DTSTAMP:20260423T115337
CREATED:20200909T040219Z
LAST-MODIFIED:20260105T161414Z
UID:2053-1759309200-1775149200@kazehopealliance.org.rw
SUMMARY:Office Visit & Open Day
DESCRIPTION:Mon -Fri \nTime: 9:00 AM – 5:00 PMLocation:Kicukiro District\, CPR-Unity HouseKK21 Ave\, Niboyi\, Kicukiro\, Kigali – Rwanda \nEvent Details\nWe warmly welcome you to visit our office\, meet the KHAF team\, and experience our work firsthand.This event is a meaningful opportunity for: \n\nOrganisations\nCompanies\nNGOs\nCommunity leaders\nPartners and supporters\n\nto connect with us\, explore collaboration opportunities\, and learn more about our mission and programs.Come\, engage\, and be part of the movement to empower women\, children\, and vulnerable families across Rwanda.
URL:https://kazehopealliance.org.rw/event/shelter-protection/
LOCATION:KHAF Office\, Kicukiro District\, CPR-Unity House KK21 Ave\, Niboyi\, Kicukiro\, Kigali – Rwanda
CATEGORIES:Office Event
ATTACH;FMTTYPE=image/webp:https://kazehopealliance.org.rw/wp-content/uploads/2020/08/khaf-logo.webp
ORGANIZER;CN="Mr. Olivier Ngizwenimana":MAILTO:Olivier.ngizwenimana@kazehope.org.rw
END:VEVENT
END:VCALENDAR